BEGIN:VCALENDAR
VERSION:2.0
PRODID:SchoolNow
CALSCALE:GREGORIAN
BEGIN:VEVENT
UID:de4a46f8-23c1-11ed-9991-0e330b4e42dd
DTSTAMP:20220824T153225Z
SUMMARY:Line Dancing
LOCATION:Activity Center
URL;VALUE=URI:https://www.wildernesslakecdd.org/calendar/3300981/line-danci
 ng
DTSTART:20220826T223000Z
DTEND:20220827T003000Z
END:VEVENT
END:VCALENDAR
