BEGIN:VCALENDAR
VERSION:2.0
PRODID:SchoolNow
CALSCALE:GREGORIAN
BEGIN:VEVENT
UID:8ee9734e-223c-11ed-8c8f-0aac5e5fbd3d
DTSTAMP:20220822T170547Z
SUMMARY:The Lodge Show
LOCATION:Activity Center
URL;VALUE=URI:https://www.wildernesslakecdd.org/calendar/3294939/the-lodge-
 show
DTSTART:20220828T230000Z
DTEND:20220829T000000Z
END:VEVENT
END:VCALENDAR
