BEGIN:VCALENDAR
VERSION:2.0
PRODID:SchoolNow
CALSCALE:GREGORIAN
BEGIN:VEVENT
UID:2f676462-223c-11ed-a95f-0aac5e5fbd3d
DTSTAMP:20220822T170220Z
SUMMARY:Town Hall
URL;VALUE=URI:https://www.wildernesslakecdd.org/calendar/3294917/town-hall
DTSTART:20220825T220000Z
DTEND:20220825T230000Z
END:VEVENT
END:VCALENDAR
