BEGIN:VCALENDAR
VERSION:2.0
PRODID:SchoolNow
CALSCALE:GREGORIAN
BEGIN:VEVENT
UID:0ea1abe8-223c-11ed-8fd5-0aac5e5fbd3d
DTSTAMP:20220822T170125Z
SUMMARY:Cribbage! -  POSTPONED UNTIL JANUARY 2023
LOCATION:Activities Center
URL;VALUE=URI:https://www.wildernesslakecdd.org/calendar/3294912/cribbage-p
 ostponed-until-january-2023
DTSTART:20220824T210000Z
DTEND:20220825T000000Z
END:VEVENT
END:VCALENDAR
