BEGIN:VCALENDAR
VERSION:2.0
PRODID:SchoolNow
CALSCALE:GREGORIAN
BEGIN:VEVENT
UID:e17ad89c-223b-11ed-9dc7-0aac5e5fbd3d
DTSTAMP:20220822T170009Z
SUMMARY:Food Truck
LOCATION:Outside Lodge near Playground
URL;VALUE=URI:https://www.wildernesslakecdd.org/calendar/3294911/womens-bib
 le-study-clone
DTSTART:20220824T210000Z
DTEND:20220825T000000Z
END:VEVENT
END:VCALENDAR
