BEGIN:VCALENDAR
VERSION:2.0
PRODID:SchoolNow
CALSCALE:GREGORIAN
BEGIN:VEVENT
UID:be4db74a-223b-11ed-9072-0aac5e5fbd3d
DTSTAMP:20220822T170910Z
SUMMARY:Women's Bible Study
LOCATION:Theatre
URL;VALUE=URI:https://www.wildernesslakecdd.org/calendar/3294910/womens-bib
 le-study
DTSTART:20220824T140000Z
DTEND:20220824T150000Z
END:VEVENT
END:VCALENDAR
