BEGIN:VCALENDAR
VERSION:2.0
PRODID:SchoolNow
CALSCALE:GREGORIAN
BEGIN:VEVENT
UID:8d42037c-223b-11ed-80e5-0aac5e5fbd3d
DTSTAMP:20220822T165748Z
SUMMARY:Pickleball
LOCATION:Tennis Courts
URL;VALUE=URI:https://www.wildernesslakecdd.org/calendar/3294909/pickleball
DTSTART:20220823T223000Z
DTEND:20220823T233000Z
END:VEVENT
END:VCALENDAR
