BEGIN:VCALENDAR
VERSION:2.0
PRODID:SchoolNow
CALSCALE:GREGORIAN
BEGIN:VEVENT
UID:5967f908-223b-11ed-acef-0aac5e5fbd3d
DTSTAMP:20220822T165621Z
SUMMARY:Yoga - Thursday\, August 25
LOCATION:Activities Center
URL;VALUE=URI:https://www.wildernesslakecdd.org/calendar/3294908/yoga-tuesd
 ay-august-23-clone
DTSTART:20220825T124500Z
DTEND:20220825T134500Z
END:VEVENT
END:VCALENDAR
