BEGIN:VCALENDAR
VERSION:2.0
PRODID:SchoolNow
CALSCALE:GREGORIAN
BEGIN:VEVENT
UID:366846b0-223b-11ed-a132-0aac5e5fbd3d
DTSTAMP:20220822T165522Z
SUMMARY:Yoga - Tuesday\, August 23
LOCATION:Activities Center
URL;VALUE=URI:https://www.wildernesslakecdd.org/calendar/3294907/yoga-tuesd
 ay-august-23
DTSTART:20220823T130000Z
DTEND:20220823T140000Z
END:VEVENT
END:VCALENDAR
