BEGIN:VCALENDAR
VERSION:2.0
PRODID:SchoolNow
CALSCALE:GREGORIAN
BEGIN:VEVENT
UID:0c06fb64-223b-11ed-95f0-0aac5e5fbd3d
DTSTAMP:20220822T165411Z
SUMMARY:Walking\, Toning\, and Strengthening Class - Wednesday\, August 24
LOCATION:Activities Center
URL;VALUE=URI:https://www.wildernesslakecdd.org/calendar/3294905/walking-to
 ning-and-strengthening-class-wednesday-august-24
DTSTART:20220824T133000Z
DTEND:20220824T144500Z
END:VEVENT
END:VCALENDAR
