BEGIN:VCALENDAR
VERSION:2.0
PRODID:SchoolNow
CALSCALE:GREGORIAN
BEGIN:VEVENT
UID:f89af044-223a-11ed-b705-0aac5e5fbd3d
DTSTAMP:20220822T165339Z
SUMMARY:Walking\, Toning\, and Strengthening Class - Friday\, August 26
LOCATION:Activities Center
URL;VALUE=URI:https://www.wildernesslakecdd.org/calendar/3294903/walking-to
 ning-and-strengthening-class-friday-august-26
DTSTART:20220826T133000Z
DTEND:20220826T144500Z
END:VEVENT
END:VCALENDAR
