BEGIN:VCALENDAR
VERSION:2.0
PRODID:SchoolNow
CALSCALE:GREGORIAN
BEGIN:VEVENT
UID:e1abe636-223a-11ed-89e2-0aac5e5fbd3d
DTSTAMP:20220822T165300Z
SUMMARY:Water Aerobics - Friday\, August 26
LOCATION:Lap Pool
URL;VALUE=URI:https://www.wildernesslakecdd.org/calendar/3294901/water-aero
 bics-wednesday-august-24-clone
DTSTART:20220826T130000Z
DTEND:20220826T140000Z
END:VEVENT
END:VCALENDAR
