BEGIN:VCALENDAR
VERSION:2.0
PRODID:SchoolNow
CALSCALE:GREGORIAN
BEGIN:VEVENT
UID:ab0979cc-223a-11ed-a4b8-0aac5e5fbd3d
DTSTAMP:20220822T165211Z
SUMMARY:Water Aerobics - Wednesday\, August 24
LOCATION:Lap Pool
URL;VALUE=URI:https://www.wildernesslakecdd.org/calendar/3294900/water-aero
 bics-wednesday-august-24
DTSTART:20220824T130000Z
DTEND:20220824T140000Z
END:VEVENT
END:VCALENDAR
