BEGIN:VCALENDAR
VERSION:2.0
PRODID:SchoolNow
CALSCALE:GREGORIAN
BEGIN:VEVENT
UID:9dc26684-223a-11ed-b427-0aac5e5fbd3d
DTSTAMP:20220822T165223Z
SUMMARY:Water Aerobics - Tuesday\, August 23
LOCATION:Lap Pool
URL;VALUE=URI:https://www.wildernesslakecdd.org/calendar/3294899/water-aero
 bics-tuesday-august-23
DTSTART:20220823T130000Z
DTEND:20220823T140000Z
END:VEVENT
END:VCALENDAR
