BEGIN:VCALENDAR
VERSION:2.0
PRODID:SchoolNow
CALSCALE:GREGORIAN
BEGIN:VEVENT
UID:82761286-223a-11ed-b617-0aac5e5fbd3d
DTSTAMP:20220822T165021Z
SUMMARY:Story Time with Songs\, Snacks\, and More!
LOCATION:Nature Center
URL;VALUE=URI:https://www.wildernesslakecdd.org/calendar/3294898/story-time
 -with-songs-snacks-and-more
DTSTART:20220822T140000Z
DTEND:20220822T150000Z
END:VEVENT
END:VCALENDAR
