BEGIN:VCALENDAR
VERSION:2.0
PRODID:SchoolNow
CALSCALE:GREGORIAN
BEGIN:VEVENT
UID:654311c8-223a-11ed-8599-0aac5e5fbd3d
DTSTAMP:20220822T164932Z
SUMMARY:Walking\, Toning\, and Strengthening Class
LOCATION:Activities Center
URL;VALUE=URI:https://www.wildernesslakecdd.org/calendar/3294897/walking-to
 ning-and-strengthening-class
DTSTART:20220822T133000Z
DTEND:20220822T144500Z
END:VEVENT
END:VCALENDAR
