BEGIN:VCALENDAR
VERSION:2.0
PRODID:SchoolNow
CALSCALE:GREGORIAN
BEGIN:VEVENT
UID:462c0ede-223a-11ed-b04a-0aac5e5fbd3d
DTSTAMP:20220822T164839Z
SUMMARY:Water Aerobics - Monday\, August 22
LOCATION:Lap Pool
URL;VALUE=URI:https://www.wildernesslakecdd.org/calendar/3294896/water-aero
 bics-monday-august-22
DTSTART:20220822T130000Z
DTEND:20220822T140000Z
END:VEVENT
END:VCALENDAR
