BEGIN:VCALENDAR
VERSION:2.0
PRODID:SchoolNow
CALSCALE:GREGORIAN
BEGIN:VEVENT
UID:91a1a5ee-174b-11ed-93de-02f955bdbdff
DTSTAMP:20230905T213904Z
SUMMARY:CDD Board Meeting - Sept. 2023
LOCATION:The Preserve at Wilderness Lake Lodge\, located at 21320 Wildernes
 s Lake Boulevard\, Land O' Lakes\, FL 34637.
URL;VALUE=URI:https://www.wildernesslakecdd.org/calendar/3273970/cdd-board-
 meeting-sept-2023
DTSTART:20230906T133000Z
DTEND:20230906T170000Z
ATTACH;FILENAME=2023-09-06 Revised Agenda Package.pdf;FMTTYPE=application/p
 df:https://campussuite-storage.s3.amazonaws.com/prod/1558874/21caec5e-ea98
 -11e9-8581-0a20d2c7fac4/2651494/1bd1ed5a-46b7-11ee-8d2a-0a58a9feac02/file/
 2023-09-06 Revised Agenda Package.pdf
END:VEVENT
END:VCALENDAR
