BEGIN:VCALENDAR
VERSION:2.0
PRODID:SchoolNow
CALSCALE:GREGORIAN
BEGIN:VEVENT
UID:82813444-174b-11ed-87a2-02f955bdbdff
DTSTAMP:20230726T210706Z
SUMMARY:CDD Board Meeting - Aug. 2023 + Budget Public Hearing
LOCATION:The Preserve at Wilderness Lake Lodge\, located at 21320 Wildernes
 s Lake Boulevard\, Land O' Lakes\, FL 34637.
URL;VALUE=URI:https://www.wildernesslakecdd.org/calendar/3273969/cdd-board-
 meeting-aug-2023
DTSTART:20230802T223000Z
DTEND:20230803T020000Z
ATTACH;FILENAME=2023-08-02 Revised Agenda Package.pdf;FMTTYPE=application/p
 df:https://campussuite-storage.s3.amazonaws.com/prod/1558874/21caec5e-ea98
 -11e9-8581-0a20d2c7fac4/2635207/344fb1ac-2bf8-11ee-b322-0a58a9feac02/file/
 2023-08-02 Revised Agenda Package.pdf
END:VEVENT
END:VCALENDAR
