BEGIN:VCALENDAR
VERSION:2.0
PRODID:SchoolNow
CALSCALE:GREGORIAN
BEGIN:VEVENT
UID:73d86066-174b-11ed-8fca-02f955bdbdff
DTSTAMP:20230628T221811Z
SUMMARY:CDD Board Meeting - Jul. 2023
LOCATION:The Preserve at Wilderness Lake Lodge\, located at 21320 Wildernes
 s Lake Boulevard\, Land O' Lakes\, FL 34637.
URL;VALUE=URI:https://www.wildernesslakecdd.org/calendar/3273968/cdd-board-
 meeting-jul-2023
DTSTART:20230705T133000Z
DTEND:20230705T170000Z
ATTACH;FILENAME=2023-07-05 Revised Agenda Package.pdf;FMTTYPE=application/p
 df:https://campussuite-storage.s3.amazonaws.com/prod/1558874/21caec5e-ea98
 -11e9-8581-0a20d2c7fac4/2624979/8cc75c2a-1601-11ee-8dc9-0e4d1906bd6b/file/
 2023-07-05 Revised Agenda Package.pdf
END:VEVENT
END:VCALENDAR
