BEGIN:VCALENDAR
VERSION:2.0
PRODID:SchoolNow
CALSCALE:GREGORIAN
BEGIN:VEVENT
UID:682363a6-174b-11ed-bb2e-02f955bdbdff
DTSTAMP:20230525T142256Z
SUMMARY:CDD Board Meeting - Jun. 2023 - CANCELLED
LOCATION:The Preserve at Wilderness Lake Lodge\, located at 21320 Wildernes
 s Lake Boulevard\, Land O' Lakes\, FL 34637.
URL;VALUE=URI:https://www.wildernesslakecdd.org/calendar/3273967/cdd-board-
 meeting-jun-2023
DTSTART:20230607T133000Z
DTEND:20230607T170000Z
END:VEVENT
END:VCALENDAR
