BEGIN:VCALENDAR
VERSION:2.0
PRODID:SchoolNow
CALSCALE:GREGORIAN
BEGIN:VEVENT
UID:5b7b9254-174b-11ed-a637-02f955bdbdff
DTSTAMP:20220808T185519Z
SUMMARY:CDD Board Meeting - May 2023
LOCATION:The Preserve at Wilderness Lake Lodge\, located at 21320 Wildernes
 s Lake Boulevard\, Land O' Lakes\, FL 34637.
URL;VALUE=URI:https://www.wildernesslakecdd.org/calendar/3273966/cdd-board-
 meeting-may-2023
DTSTART:20230503T223000Z
DTEND:20230504T020000Z
END:VEVENT
END:VCALENDAR
