BEGIN:VCALENDAR
VERSION:2.0
PRODID:SchoolNow
CALSCALE:GREGORIAN
BEGIN:VEVENT
UID:4f096b22-174b-11ed-8906-02f955bdbdff
DTSTAMP:20220808T185253Z
SUMMARY:CDD Board Meeting - Apr. 2023
LOCATION:The Preserve at Wilderness Lake Lodge\, located at 21320 Wildernes
 s Lake Boulevard\, Land O' Lakes\, FL 34637.
URL;VALUE=URI:https://www.wildernesslakecdd.org/calendar/3273965/cdd-board-
 meeting-apr-2023
DTSTART:20230405T133000Z
DTEND:20230405T170000Z
END:VEVENT
END:VCALENDAR
