BEGIN:VCALENDAR
VERSION:2.0
PRODID:SchoolNow
CALSCALE:GREGORIAN
BEGIN:VEVENT
UID:3d0a7970-174b-11ed-b16f-02f955bdbdff
DTSTAMP:20230222T181645Z
SUMMARY:CDD Board Meeting - Mar. 2023
LOCATION:The Preserve at Wilderness Lake Lodge\, located at 21320 Wildernes
 s Lake Boulevard\, Land O' Lakes\, FL 34637.
URL;VALUE=URI:https://www.wildernesslakecdd.org/calendar/3273964/cdd-board-
 meeting-mar-2023
DTSTART:20230301T233000Z
DTEND:20230302T030000Z
ATTACH;FILENAME=2023-03-01 - Preserve at Wilderness Lake CDD - Final Agenda
 .pdf;FMTTYPE=application/pdf:https://campussuite-storage.s3.amazonaws.com/
 prod/1558874/21caec5e-ea98-11e9-8581-0a20d2c7fac4/2554628/cc7dbcc0-b2dc-11
 ed-bc1e-0221aecb78f9/file/2023-03-01 - Preserve at Wilderness Lake CDD - F
 inal Agenda.pdf
END:VEVENT
END:VCALENDAR
