BEGIN:VCALENDAR
VERSION:2.0
PRODID:SchoolNow
CALSCALE:GREGORIAN
BEGIN:VEVENT
UID:31c3466e-174b-11ed-b467-02f955bdbdff
DTSTAMP:20220808T185204Z
SUMMARY:CDD Board Meeting - Feb. 2023
LOCATION:The Preserve at Wilderness Lake Lodge\, located at 21320 Wildernes
 s Lake Boulevard\, Land O' Lakes\, FL 34637.
URL;VALUE=URI:https://www.wildernesslakecdd.org/calendar/3273963/cdd-board-
 meeting-feb-2023
DTSTART:20230208T143000Z
DTEND:20230208T180000Z
END:VEVENT
END:VCALENDAR
