BEGIN:VCALENDAR
VERSION:2.0
PRODID:SchoolNow
CALSCALE:GREGORIAN
BEGIN:VEVENT
UID:25c8af5c-174b-11ed-964d-02f955bdbdff
DTSTAMP:20230125T140606Z
SUMMARY:CDD Board Meeting - Jan. 2023
LOCATION:The Preserve at Wilderness Lake Lodge\, located at 21320 Wildernes
 s Lake Boulevard\, Land O' Lakes\, FL 34637.
URL;VALUE=URI:https://www.wildernesslakecdd.org/calendar/3273962/cdd-board-
 meeting-jan-2023
DTSTART:20230104T143000Z
DTEND:20230104T180000Z
END:VEVENT
END:VCALENDAR
