BEGIN:VCALENDAR
VERSION:2.0
PRODID:SchoolNow
CALSCALE:GREGORIAN
BEGIN:VEVENT
UID:123950cc-174b-11ed-b4bc-02f955bdbdff
DTSTAMP:20230125T140548Z
SUMMARY:CDD Board Meeting - Dec. 2022
LOCATION:The Preserve at Wilderness Lake Lodge\, located at 21320 Wildernes
 s Lake Boulevard\, Land O' Lakes\, FL 34637.
URL;VALUE=URI:https://www.wildernesslakecdd.org/calendar/3273961/cdd-board-
 meeting-dec-2022
DTSTART:20221207T143000Z
DTEND:20221207T180000Z
END:VEVENT
END:VCALENDAR
