BEGIN:VCALENDAR
VERSION:2.0
PRODID:SchoolNow
CALSCALE:GREGORIAN
BEGIN:VEVENT
UID:073360dc-174b-11ed-9ffb-02f955bdbdff
DTSTAMP:20220808T185604Z
SUMMARY:CDD Board Meeting - Nov. 2022
LOCATION:The Preserve at Wilderness Lake Lodge\, located at 21320 Wildernes
 s Lake Boulevard\, Land O' Lakes\, FL 34637.
URL;VALUE=URI:https://www.wildernesslakecdd.org/calendar/3273960/cdd-board-
 meeting-nov-2022
DTSTART:20221102T223000Z
DTEND:20221103T020000Z
END:VEVENT
END:VCALENDAR
