BEGIN:VCALENDAR
VERSION:2.0
PRODID:SchoolNow
CALSCALE:GREGORIAN
BEGIN:VEVENT
UID:fa47aaf4-174a-11ed-b203-02f955bdbdff
DTSTAMP:20220808T185031Z
SUMMARY:CDD Board Meeting - Oct. 2022
LOCATION:The Preserve at Wilderness Lake Lodge\, located at 21320 Wildernes
 s Lake Boulevard\, Land O' Lakes\, FL 34637.
URL;VALUE=URI:https://www.wildernesslakecdd.org/calendar/3273959/cdd-board-
 meeting-oct-2022
DTSTART:20221005T133000Z
DTEND:20221005T170000Z
END:VEVENT
END:VCALENDAR
