BEGIN:VCALENDAR
VERSION:2.0
PRODID:SchoolNow
CALSCALE:GREGORIAN
BEGIN:VEVENT
UID:4d1b095c-b750-11ec-9ce2-0a45793186a5
DTSTAMP:20220408T152646Z
SUMMARY:CDD Budget Workshop
LOCATION:Preserve at Wilderness Lake Activity Center - 21326 Wilderness Lak
 e Blvd. Land O’ Lakes\, FL 34637
URL;VALUE=URI:https://www.wildernesslakecdd.org/calendar/3163576/cdd-budget
 -workshop-clone
DTSTART:20220427T133000Z
DTEND:20220427T170000Z
END:VEVENT
END:VCALENDAR
