BEGIN:VCALENDAR
VERSION:2.0
PRODID:SchoolNow
CALSCALE:GREGORIAN
BEGIN:VEVENT
UID:e547dca6-ae0d-11ec-ad5e-02f8e2ec8b17
DTSTAMP:20220327T203844Z
SUMMARY:Kids Intro to Tennis
URL;VALUE=URI:https://www.wildernesslakecdd.org/calendar/3144803/kids-intro
 -to-tennis
DTSTART:20220423T130000Z
DTEND:20220423T150000Z
END:VEVENT
END:VCALENDAR
