BEGIN:VCALENDAR
VERSION:2.0
PRODID:SchoolNow
CALSCALE:GREGORIAN
BEGIN:VEVENT
UID:c1ed9c8c-ae0d-11ec-b6ae-02f8e2ec8b17
DTSTAMP:20220327T203745Z
SUMMARY:Kids Intro to Tennis
URL;VALUE=URI:https://www.wildernesslakecdd.org/calendar/3144802/kids-intro
 -to-tennis
DTSTART:20220402T130000Z
DTEND:20220402T150000Z
END:VEVENT
END:VCALENDAR
