BEGIN:VCALENDAR
VERSION:2.0
PRODID:SchoolNow
CALSCALE:GREGORIAN
BEGIN:VEVENT
UID:47fe2766-ae0d-11ec-9ed0-02f8e2ec8b17
DTSTAMP:20220327T203420Z
SUMMARY:Comedy Show
URL;VALUE=URI:https://www.wildernesslakecdd.org/calendar/3144801/comedy-sho
 w
DTSTART:20220423T230000Z
DTEND:20220424T010000Z
END:VEVENT
END:VCALENDAR
