BEGIN:VCALENDAR
VERSION:2.0
PRODID:SchoolNow
CALSCALE:GREGORIAN
BEGIN:VEVENT
UID:2d9c4bf0-ae0d-11ec-a03c-02f8e2ec8b17
DTSTAMP:20220327T203336Z
SUMMARY:SnoCones & Earth Day
URL;VALUE=URI:https://www.wildernesslakecdd.org/calendar/3144800/snocones-e
 arth-day
DTSTART:20220423T170000Z
DTEND:20220423T190000Z
END:VEVENT
END:VCALENDAR
