BEGIN:VCALENDAR
VERSION:2.0
PRODID:SchoolNow
CALSCALE:GREGORIAN
BEGIN:VEVENT
UID:14d5bf16-ae0d-11ec-9ca5-02f8e2ec8b17
DTSTAMP:20220327T203254Z
SUMMARY:Grill & Chill
URL;VALUE=URI:https://www.wildernesslakecdd.org/calendar/3144799/grill-chil
 l
DTSTART:20220422T220000Z
DTEND:20220423T000000Z
END:VEVENT
END:VCALENDAR
