BEGIN:VCALENDAR
VERSION:2.0
PRODID:SchoolNow
CALSCALE:GREGORIAN
BEGIN:VEVENT
UID:f8148c18-ae0c-11ec-8701-02f8e2ec8b17
DTSTAMP:20220327T203206Z
SUMMARY:Bunco
URL;VALUE=URI:https://www.wildernesslakecdd.org/calendar/3144798/bunco
DTSTART:20220419T230000Z
DTEND:20220420T010000Z
END:VEVENT
END:VCALENDAR
