BEGIN:VCALENDAR
VERSION:2.0
PRODID:SchoolNow
CALSCALE:GREGORIAN
BEGIN:VEVENT
UID:dd4c12de-ae0c-11ec-b2fb-02f8e2ec8b17
DTSTAMP:20220327T203121Z
SUMMARY:Community Garage Sale
URL;VALUE=URI:https://www.wildernesslakecdd.org/calendar/3144797/community-
 garage-sale
DTSTART;VALUE=DATE:20220409
DTEND;VALUE=DATE:20220410
END:VEVENT
END:VCALENDAR
