BEGIN:VCALENDAR
VERSION:2.0
PRODID:SchoolNow
CALSCALE:GREGORIAN
BEGIN:VEVENT
UID:aea34826-ae0c-11ec-bc05-02f8e2ec8b17
DTSTAMP:20220327T203003Z
SUMMARY:Spaghetti Dinner
URL;VALUE=URI:https://www.wildernesslakecdd.org/calendar/3144796/spaghetti-
 dinner
DTSTART:20220401T220000Z
DTEND:20220402T003000Z
END:VEVENT
END:VCALENDAR
