BEGIN:VCALENDAR
VERSION:2.0
PRODID:SchoolNow
CALSCALE:GREGORIAN
BEGIN:VEVENT
UID:5986e66a-9401-11ec-bbe6-0eeb9bc3bc11
DTSTAMP:20220222T170325Z
SUMMARY:Walking\, Toning and Strengthening Class
LOCATION:Activity Center
URL;VALUE=URI:https://www.wildernesslakecdd.org/calendar/3111683/walking-to
 ning-and-strengthening-class
DTSTART:20220511T133000Z
DTEND:20220511T144500Z
END:VEVENT
END:VCALENDAR
