BEGIN:VCALENDAR
VERSION:2.0
PRODID:SchoolNow
CALSCALE:GREGORIAN
BEGIN:VEVENT
UID:f4f40818-9400-11ec-88be-0eeb9bc3bc11
DTSTAMP:20220222T170037Z
SUMMARY:Walking\, Toning and Strengthening Class
LOCATION:Activity Center
URL;VALUE=URI:https://www.wildernesslakecdd.org/calendar/3111681/walking-to
 ning-and-strengthening-class
DTSTART:20220509T133000Z
DTEND:20220509T144500Z
END:VEVENT
END:VCALENDAR
