BEGIN:VCALENDAR
VERSION:2.0
PRODID:SchoolNow
CALSCALE:GREGORIAN
BEGIN:VEVENT
UID:8ae7fcea-9400-11ec-b120-0ace8f1f329b
DTSTAMP:20220222T165739Z
SUMMARY:Waking\, Toning and Strengthening Class
LOCATION:Activity Center
URL;VALUE=URI:https://www.wildernesslakecdd.org/calendar/3111679/waking-ton
 ing-and-strengthening-class
DTSTART:20220506T133000Z
DTEND:20220506T144500Z
END:VEVENT
END:VCALENDAR
