BEGIN:VCALENDAR
VERSION:2.0
PRODID:SchoolNow
CALSCALE:GREGORIAN
BEGIN:VEVENT
UID:5ad6e7c4-93ff-11ec-9d9c-023eb4fed545
DTSTAMP:20220222T164909Z
SUMMARY:Walking\, Toning and Strengthening Class
LOCATION:Activity Center
URL;VALUE=URI:https://www.wildernesslakecdd.org/calendar/3111666/walking-to
 ning-and-strengthening-class
DTSTART:20220504T133000Z
DTEND:20220504T144500Z
END:VEVENT
END:VCALENDAR
