BEGIN:VCALENDAR
VERSION:2.0
PRODID:SchoolNow
CALSCALE:GREGORIAN
BEGIN:VEVENT
UID:dae98e18-93fe-11ec-a206-0e9cb3837b5b
DTSTAMP:20220222T164534Z
SUMMARY:Walking\, Toning and Strengthening Class
LOCATION:Activity Center
URL;VALUE=URI:https://www.wildernesslakecdd.org/calendar/3111665/walking-to
 ning-and-strengthening-class
DTSTART:20220502T133000Z
DTEND:20220502T144500Z
END:VEVENT
END:VCALENDAR
