BEGIN:VCALENDAR
VERSION:2.0
PRODID:SchoolNow
CALSCALE:GREGORIAN
BEGIN:VEVENT
UID:69223b7c-93fe-11ec-a66b-0eeb9bc3bc11
DTSTAMP:20220222T164223Z
SUMMARY:Walking\, Toning and Strengthening Class
LOCATION:Activity Center
URL;VALUE=URI:https://www.wildernesslakecdd.org/calendar/3111600/walking-to
 ning-and-strengthening-class
DTSTART:20220429T133000Z
DTEND:20220429T144500Z
END:VEVENT
END:VCALENDAR
