BEGIN:VCALENDAR
VERSION:2.0
PRODID:SchoolNow
CALSCALE:GREGORIAN
BEGIN:VEVENT
UID:26424f9a-93fe-11ec-b560-0eeb9bc3bc11
DTSTAMP:20220222T164031Z
SUMMARY:Walking\, Toning and Strengthening Class
LOCATION:Activity Center
URL;VALUE=URI:https://www.wildernesslakecdd.org/calendar/3111599/walking-to
 ning-and-strengthening-class
DTSTART:20220427T133000Z
DTEND:20220427T144500Z
END:VEVENT
END:VCALENDAR
