BEGIN:VCALENDAR
VERSION:2.0
PRODID:SchoolNow
CALSCALE:GREGORIAN
BEGIN:VEVENT
UID:cab83d4c-93fd-11ec-b814-0eeb9bc3bc11
DTSTAMP:20220222T163757Z
SUMMARY:Walking\, Toning and Strengthening Class
LOCATION:Activity Center
URL;VALUE=URI:https://www.wildernesslakecdd.org/calendar/3111598/walking-to
 ning-and-strengthening-class
DTSTART:20220425T133000Z
DTEND:20220425T144500Z
END:VEVENT
END:VCALENDAR
