BEGIN:VCALENDAR
VERSION:2.0
PRODID:SchoolNow
CALSCALE:GREGORIAN
BEGIN:VEVENT
UID:0bb53198-93fd-11ec-a3bc-02532c4daa1d
DTSTAMP:20220222T163237Z
SUMMARY:Walking\, Toning and Strengthening Class
LOCATION:Activity Center
URL;VALUE=URI:https://www.wildernesslakecdd.org/calendar/3111574/walking-to
 ning-and-strengthening-class
DTSTART:20220422T133000Z
DTEND:20220422T144500Z
END:VEVENT
END:VCALENDAR
