BEGIN:VCALENDAR
VERSION:2.0
PRODID:SchoolNow
CALSCALE:GREGORIAN
BEGIN:VEVENT
UID:3329fe26-93fc-11ec-b2a5-0a7057cd47fd
DTSTAMP:20220222T162634Z
SUMMARY:Walking\, Toning and Strengthening Class
LOCATION:Activity Center
URL;VALUE=URI:https://www.wildernesslakecdd.org/calendar/3111573/walking-to
 ning-and-strengthening-class
DTSTART:20220420T133000Z
DTEND:20220420T144500Z
END:VEVENT
END:VCALENDAR
