BEGIN:VCALENDAR
VERSION:2.0
PRODID:SchoolNow
CALSCALE:GREGORIAN
BEGIN:VEVENT
UID:87da5f98-93fb-11ec-ad03-0a7057cd47fd
DTSTAMP:20220222T162146Z
SUMMARY:Walking\, Toning and Strengthening Class
LOCATION:Activity Center
URL;VALUE=URI:https://www.wildernesslakecdd.org/calendar/3111570/walking-to
 ning-and-strengthening-class
DTSTART:20220415T133000Z
DTEND:20220415T144500Z
END:VEVENT
END:VCALENDAR
