BEGIN:VCALENDAR
VERSION:2.0
PRODID:SchoolNow
CALSCALE:GREGORIAN
BEGIN:VEVENT
UID:9ef4a2d6-93f8-11ec-bc97-02d7092b1ea9
DTSTAMP:20220222T160056Z
SUMMARY:Walking\, Toning and Strengthening Class
LOCATION:Activity Center
URL;VALUE=URI:https://www.wildernesslakecdd.org/calendar/3111567/walking-to
 ning-and-strengthening-class
DTSTART:20220413T133000Z
DTEND:20220413T144500Z
END:VEVENT
END:VCALENDAR
